BEGIN:VCALENDAR
VERSION:2.0
PRODID:-//http://hollowhouse-entertainment.com/OS///NONSGML kigkonsult.se iCalcreator 2.10.15//
METHOD:PUBLISH
BEGIN:VEVENT
UID:20260424T160253UTC-0602pxvkVg@http://hollowhouse-entertainment.com/OS/
DTSTAMP:20260424T160253Z
DESCRIPTION: http://hollowhouse-entertainment.com/OS/index.php/event-calend
 ar/event/1149-private-party.html
DTSTART:20160514T000000Z
DTEND:20160514T040000Z
LOCATION:Copperas Cove Civic Center (1206 W Avenue B\, Copperas Cove\, TX 7
 6522)
SUMMARY:Private Party
URL:http://hollowhouse-entertainment.com/OS/index.php/event-calendar/event/
 1149-private-party.html
END:VEVENT
END:VCALENDAR
