BEGIN:VCALENDAR
VERSION:2.0
PRODID:-//http://hollowhouse-entertainment.com/OS///NONSGML kigkonsult.se iCalcreator 2.10.15//
METHOD:PUBLISH
BEGIN:VEVENT
UID:20260424T145401UTC-2047ESuUU1@http://hollowhouse-entertainment.com/OS/
DTSTAMP:20260424T145401Z
DESCRIPTION:Operation Home Front http://hollowhouse-entertainment.com/OS/in
 dex.php/event-calendar/event/1150-private-party.html
DTSTART:20160604T230000Z
DTEND:20160605T030000Z
LOCATION:Shilo Inn Suites Hotel (3701 South W S Young Drive\, Killeen\, TX 
 76542)
SUMMARY:Private Party
URL:http://hollowhouse-entertainment.com/OS/index.php/event-calendar/event/
 1150-private-party.html
END:VEVENT
END:VCALENDAR
