BEGIN:VCALENDAR
VERSION:2.0
PRODID:-//http://hollowhouse-entertainment.com/OS///NONSGML kigkonsult.se iCalcreator 2.10.15//
METHOD:PUBLISH
BEGIN:VEVENT
UID:20260419T142209UTC-5174VhM9eb@http://hollowhouse-entertainment.com/OS/
DTSTAMP:20260419T142209Z
DESCRIPTION: http://hollowhouse-entertainment.com/OS/index.php/event-calend
 ar/event/1273-foam-party.html
DTSTART:20120821T040000Z
DTEND:20120821T080000Z
LOCATION:Delta Tau Delta (Old Ranch Rd 12\, San Marcos\, TX 78666)
SUMMARY:Foam Party
URL:http://hollowhouse-entertainment.com/OS/index.php/event-calendar/event/
 1273-foam-party.html
END:VEVENT
END:VCALENDAR
