BEGIN:VCALENDAR
VERSION:2.0
PRODID:-//http://hollowhouse-entertainment.com/OS///NONSGML kigkonsult.se iCalcreator 2.10.15//
METHOD:PUBLISH
BEGIN:VEVENT
UID:20260424T063807UTC-4458BvtDfh@http://hollowhouse-entertainment.com/OS/
DTSTAMP:20260424T063807Z
DESCRIPTION: http://hollowhouse-entertainment.com/OS/index.php/event-calend
 ar/event/1897-corporate-party.html
DTSTART:20161203T010000Z
DTEND:20161203T060000Z
LOCATION:Hyatt Regency Austin (208 Barton Springs Rd\, Austin\, TX 78704\, 
 USA)
SUMMARY:Corporate Party
URL:http://hollowhouse-entertainment.com/OS/index.php/event-calendar/event/
 1897-corporate-party.html
END:VEVENT
END:VCALENDAR
