BEGIN:VCALENDAR
VERSION:2.0
PRODID:-//http://hollowhouse-entertainment.com/OS///NONSGML kigkonsult.se iCalcreator 2.10.15//
METHOD:PUBLISH
BEGIN:VEVENT
UID:20260424T074946UTC-2514cGuTS6@http://hollowhouse-entertainment.com/OS/
DTSTAMP:20260424T074946Z
DESCRIPTION: http://hollowhouse-entertainment.com/OS/index.php/event-calend
 ar/event/1899-bout-time-ii.html
DTSTART:20161111T030000Z
DTEND:20161111T060000Z
LOCATION:Bout Time II (6607 N Interstate 35 Frontage Rd\, Austin\, TX 78752
 )
SUMMARY:Bout Time II
URL:http://hollowhouse-entertainment.com/OS/index.php/event-calendar/event/
 1899-bout-time-ii.html
END:VEVENT
END:VCALENDAR
