BEGIN:VCALENDAR
VERSION:2.0
PRODID:-//http://hollowhouse-entertainment.com/OS///NONSGML kigkonsult.se iCalcreator 2.10.15//
METHOD:PUBLISH
BEGIN:VEVENT
UID:20260424T051000UTC-4684SvND4h@http://hollowhouse-entertainment.com/OS/
DTSTAMP:20260424T051000Z
DESCRIPTION: http://hollowhouse-entertainment.com/OS/index.php/event-calend
 ar/event/2015-private-party.html
DTSTART:20170114T230000Z
DTEND:20170115T020000Z
LOCATION:Comfort Suites (1816 MLK Jr. Drive\, Copperas Cove\, TX 76522-0000
 )
SUMMARY:Private Party
URL:http://hollowhouse-entertainment.com/OS/index.php/event-calendar/event/
 2015-private-party.html
END:VEVENT
END:VCALENDAR
