BEGIN:VCALENDAR
VERSION:2.0
PRODID:-//http://hollowhouse-entertainment.com/OS///NONSGML kigkonsult.se iCalcreator 2.10.15//
METHOD:PUBLISH
BEGIN:VEVENT
UID:20260424T012741UTC-9673wwtRhN@http://hollowhouse-entertainment.com/OS/
DTSTAMP:20260424T012741Z
DESCRIPTION: http://hollowhouse-entertainment.com/OS/index.php/event-calend
 ar/event/2018-convention.html
DTSTART:20170324T130000Z
DTEND:20170327T010000Z
LOCATION:InterContinetal Dallas (15201 Dallas Pkwy\, Addison\, TX 75001\, U
 SA)
SUMMARY:Convention
URL:http://hollowhouse-entertainment.com/OS/index.php/event-calendar/event/
 2018-convention.html
END:VEVENT
END:VCALENDAR
