BEGIN:VCALENDAR
VERSION:2.0
PRODID:-//http://hollowhouse-entertainment.com/OS///NONSGML kigkonsult.se iCalcreator 2.10.15//
METHOD:PUBLISH
BEGIN:VEVENT
UID:20260423T223810UTC-45058mrv5v@http://hollowhouse-entertainment.com/OS/
DTSTAMP:20260423T223810Z
DESCRIPTION: http://hollowhouse-entertainment.com/OS/index.php/event-calend
 ar/event/2034-private-party.html
DTSTART:20170528T200000Z
DTEND:20170529T000000Z
LOCATION:Brushy Creek Lake Park (3300 Brushy Creek\, Cedar Park\, TX 78613-
 0000)
SUMMARY:Private Party
URL:http://hollowhouse-entertainment.com/OS/index.php/event-calendar/event/
 2034-private-party.html
END:VEVENT
END:VCALENDAR
