BEGIN:VCALENDAR
VERSION:2.0
PRODID:-//http://hollowhouse-entertainment.com/OS///NONSGML kigkonsult.se iCalcreator 2.10.15//
METHOD:PUBLISH
BEGIN:VEVENT
UID:20260424T090925UTC-3186W49Z8s@http://hollowhouse-entertainment.com/OS/
DTSTAMP:20260424T090925Z
DESCRIPTION: http://hollowhouse-entertainment.com/OS/index.php/event-calend
 ar/event/2041-private-party.html
DTSTART:20161021T000000Z
DTEND:20161021T040000Z
LOCATION:Hollow House Entertainment (10803 Claywood Drive\, Austin\, TX 787
 53)
SUMMARY:Private Party
URL:http://hollowhouse-entertainment.com/OS/index.php/event-calendar/event/
 2041-private-party.html
END:VEVENT
END:VCALENDAR
