BEGIN:VCALENDAR
VERSION:2.0
PRODID:-//http://hollowhouse-entertainment.com/OS///NONSGML kigkonsult.se iCalcreator 2.10.15//
METHOD:PUBLISH
BEGIN:VEVENT
UID:20260423T002645UTC-5399dlsDRt@http://hollowhouse-entertainment.com/OS/
DTSTAMP:20260423T002645Z
DESCRIPTION: http://hollowhouse-entertainment.com/OS/index.php/event-calend
 ar/event/2071-wedding.html
DTSTART:20121124T230000Z
DTEND:20121125T040000Z
LOCATION:Hollow House Entertainment (10803 Claywood Drive\, Austin\, TX 787
 53)
SUMMARY:Wedding
URL:http://hollowhouse-entertainment.com/OS/index.php/event-calendar/event/
 2071-wedding.html
END:VEVENT
END:VCALENDAR
