BEGIN:VCALENDAR
VERSION:2.0
PRODID:-//http://hollowhouse-entertainment.com/OS///NONSGML kigkonsult.se iCalcreator 2.10.15//
METHOD:PUBLISH
BEGIN:VEVENT
UID:20260424T160151UTC-66895aM1UJ@http://hollowhouse-entertainment.com/OS/
DTSTAMP:20260424T160151Z
DESCRIPTION: http://hollowhouse-entertainment.com/OS/index.php/event-calend
 ar/event/2271-private-party.html
DTSTART:20160528T200000Z
DTEND:20160529T000000Z
LOCATION:Brushy Creek Lake Park (3300 Brushy Creek\, Cedar Park\, TX 78613-
 0000)
SUMMARY:Private Party
URL:http://hollowhouse-entertainment.com/OS/index.php/event-calendar/event/
 2271-private-party.html
END:VEVENT
END:VCALENDAR
