BEGIN:VCALENDAR
VERSION:2.0
PRODID:-//http://hollowhouse-entertainment.com/OS///NONSGML kigkonsult.se iCalcreator 2.10.15//
METHOD:PUBLISH
BEGIN:VEVENT
UID:20260424T114813UTC-29652eX5P0@http://hollowhouse-entertainment.com/OS/
DTSTAMP:20260424T114813Z
DESCRIPTION: http://hollowhouse-entertainment.com/OS/index.php/event-calend
 ar/event/2429-private-party.html
DTSTART:20160815T000000Z
DTEND:20160815T040000Z
LOCATION:Hollow House Entertainment (10803 Claywood Drive\, Austin\, TX 787
 53)
SUMMARY:Private Party
URL:http://hollowhouse-entertainment.com/OS/index.php/event-calendar/event/
 2429-private-party.html
END:VEVENT
END:VCALENDAR
