BEGIN:VCALENDAR
VERSION:2.0
PRODID:-//http://hollowhouse-entertainment.com/OS///NONSGML kigkonsult.se iCalcreator 2.10.15//
METHOD:PUBLISH
BEGIN:VEVENT
UID:20260423T164716UTC-1897lLZN0p@http://hollowhouse-entertainment.com/OS/
DTSTAMP:20260423T164716Z
DESCRIPTION: http://hollowhouse-entertainment.com/OS/index.php/event-calend
 ar/event/2540-empire-control-room.html
DTSTART:20171022T040000Z
DTEND:20171022T050000Z
LOCATION:Empire Control Room (606 E 7th St\, Austin\, TX 78701)
SUMMARY:Empire Control Room
URL:http://hollowhouse-entertainment.com/OS/index.php/event-calendar/event/
 2540-empire-control-room.html
END:VEVENT
END:VCALENDAR
