BEGIN:VCALENDAR
VERSION:2.0
PRODID:-//http://hollowhouse-entertainment.com/OS///NONSGML kigkonsult.se iCalcreator 2.10.15//
METHOD:PUBLISH
BEGIN:VEVENT
UID:20260423T140100UTC-2814dSjDv2@http://hollowhouse-entertainment.com/OS/
DTSTAMP:20260423T140100Z
DESCRIPTION: http://hollowhouse-entertainment.com/OS/index.php/event-calend
 ar/event/2615-private-party.html
DTSTART:20171225T230000Z
DTEND:20171226T030000Z
LOCATION:Hollow House Entertainment (10803 Claywood Drive\, Austin\, TX 787
 53)
SUMMARY:Private Party
URL:http://hollowhouse-entertainment.com/OS/index.php/event-calendar/event/
 2615-private-party.html
END:VEVENT
END:VCALENDAR
