BEGIN:VCALENDAR
VERSION:2.0
PRODID:-//http://hollowhouse-entertainment.com/OS///NONSGML kigkonsult.se iCalcreator 2.10.15//
METHOD:PUBLISH
BEGIN:VEVENT
UID:20260423T093746UTC-5885RxjUr1@http://hollowhouse-entertainment.com/OS/
DTSTAMP:20260423T093746Z
DESCRIPTION: http://hollowhouse-entertainment.com/OS/index.php/event-calend
 ar/event/2719-private-party.html
DTSTART:20180318T000000Z
DTEND:20180318T040000Z
LOCATION:Hollow House Entertainment (10803 Claywood Drive\, Austin\, TX 787
 53)
SUMMARY:Private Party
URL:http://hollowhouse-entertainment.com/OS/index.php/event-calendar/event/
 2719-private-party.html
END:VEVENT
END:VCALENDAR
