BEGIN:VCALENDAR
VERSION:2.0
PRODID:-//http://hollowhouse-entertainment.com/OS///NONSGML kigkonsult.se iCalcreator 2.10.15//
METHOD:PUBLISH
BEGIN:VEVENT
UID:20260423T062903UTC-9177Krt5cJ@http://hollowhouse-entertainment.com/OS/
DTSTAMP:20260423T062903Z
DESCRIPTION: http://hollowhouse-entertainment.com/OS/index.php/event-calend
 ar/event/2776-private-party.html
DTSTART:20180513T010000Z
DTEND:20180513T040000Z
LOCATION:Berry Creek Country Club (30500 Berry Creek Dr\, Georgetown\, TX 7
 8628\, USA)
SUMMARY:Private Party
URL:http://hollowhouse-entertainment.com/OS/index.php/event-calendar/event/
 2776-private-party.html
END:VEVENT
END:VCALENDAR
