BEGIN:VCALENDAR
VERSION:2.0
PRODID:-//http://hollowhouse-entertainment.com/OS///NONSGML kigkonsult.se iCalcreator 2.10.15//
METHOD:PUBLISH
BEGIN:VEVENT
UID:20260423T020145UTC-2493XkfSjt@http://hollowhouse-entertainment.com/OS/
DTSTAMP:20260423T020145Z
DESCRIPTION: http://hollowhouse-entertainment.com/OS/index.php/event-calend
 ar/event/2879-parade.html
DTSTART:20180812T010000Z
DTEND:20180812T050000Z
LOCATION:Austin GLPF (402 Congress Ave\, Austin\, TX 78701)
SUMMARY:Parade
URL:http://hollowhouse-entertainment.com/OS/index.php/event-calendar/event/
 2879-parade.html
END:VEVENT
END:VCALENDAR
