BEGIN:VCALENDAR
VERSION:2.0
PRODID:-//http://hollowhouse-entertainment.com/OS///NONSGML kigkonsult.se iCalcreator 2.10.15//
METHOD:PUBLISH
BEGIN:VEVENT
UID:20260422T225011UTC-32167Fk2s6@http://hollowhouse-entertainment.com/OS/
DTSTAMP:20260422T225011Z
DESCRIPTION: http://hollowhouse-entertainment.com/OS/index.php/event-calend
 ar/event/2977-studio-demo.html
DTSTART:20181018T230000Z
DTEND:20181019T013000Z
LOCATION:Hollow House Entertainment (10803 Claywood Drive\, Austin\, TX 787
 53)
SUMMARY:Studio Demo
URL:http://hollowhouse-entertainment.com/OS/index.php/event-calendar/event/
 2977-studio-demo.html
END:VEVENT
END:VCALENDAR
