BEGIN:VCALENDAR
VERSION:2.0
PRODID:-//http://hollowhouse-entertainment.com/OS///NONSGML kigkonsult.se iCalcreator 2.10.15//
METHOD:PUBLISH
BEGIN:VEVENT
UID:20260423T033735UTC-6854F7iX81@http://hollowhouse-entertainment.com/OS/
DTSTAMP:20260423T033735Z
DESCRIPTION: http://hollowhouse-entertainment.com/OS/index.php/event-calend
 ar/event/3031-private-party.html
DTSTART:20180710T000000Z
DTEND:20180710T040000Z
LOCATION:Hollow House Entertainment (10803 Claywood Drive\, Austin\, TX 787
 53)
SUMMARY:Private Party
URL:http://hollowhouse-entertainment.com/OS/index.php/event-calendar/event/
 3031-private-party.html
END:VEVENT
END:VCALENDAR
