BEGIN:VCALENDAR
VERSION:2.0
PRODID:-//http://hollowhouse-entertainment.com/OS///NONSGML kigkonsult.se iCalcreator 2.10.15//
METHOD:PUBLISH
BEGIN:VEVENT
UID:20260420T084201UTC-7950gWeubl@http://hollowhouse-entertainment.com/OS/
DTSTAMP:20260420T084201Z
DESCRIPTION: http://hollowhouse-entertainment.com/OS/index.php/event-calend
 ar/event/3034-convention.html
DTSTART:20171104T130000Z
DTEND:20171106T020000Z
LOCATION:American Glass Roots (7100 Interstate 20 W\, Arlington\, TX 76017)
SUMMARY:Convention
URL:http://hollowhouse-entertainment.com/OS/index.php/event-calendar/event/
 3034-convention.html
END:VEVENT
END:VCALENDAR
