BEGIN:VCALENDAR
VERSION:2.0
PRODID:-//http://hollowhouse-entertainment.com/OS///NONSGML kigkonsult.se iCalcreator 2.10.15//
METHOD:PUBLISH
BEGIN:VEVENT
UID:20260422T105120UTC-52072AkzhW@http://hollowhouse-entertainment.com/OS/
DTSTAMP:20260422T105120Z
DESCRIPTION: http://hollowhouse-entertainment.com/OS/index.php/event-calend
 ar/event/3176-private-party.html
DTSTART:20190512T000000Z
DTEND:20190512T040000Z
LOCATION:Berry Creek Country Club (30500 Berry Creek Dr\, Georgetown\, TX 7
 8628\, USA)
SUMMARY:Private Party
URL:http://hollowhouse-entertainment.com/OS/index.php/event-calendar/event/
 3176-private-party.html
END:VEVENT
END:VCALENDAR
