BEGIN:VCALENDAR
VERSION:2.0
PRODID:-//http://hollowhouse-entertainment.com/OS///NONSGML kigkonsult.se iCalcreator 2.10.15//
METHOD:PUBLISH
BEGIN:VEVENT
UID:20260423T063253UTC-6000ILjUPJ@http://hollowhouse-entertainment.com/OS/
DTSTAMP:20260423T063253Z
DESCRIPTION: http://hollowhouse-entertainment.com/OS/index.php/event-calend
 ar/event/3226-career-day.html
DTSTART:20180518T130000Z
DTEND:20180518T200000Z
LOCATION:Clarke Elementry School (Comanche Ave\, Fort Hood\, TX 76544\, USA
 )
SUMMARY:Career Day
URL:http://hollowhouse-entertainment.com/OS/index.php/event-calendar/event/
 3226-career-day.html
END:VEVENT
END:VCALENDAR
