BEGIN:VCALENDAR
VERSION:2.0
PRODID:-//http://hollowhouse-entertainment.com/OS///NONSGML kigkonsult.se iCalcreator 2.10.15//
METHOD:PUBLISH
BEGIN:VEVENT
UID:20260422T105059UTC-4615Wcdcwh@http://hollowhouse-entertainment.com/OS/
DTSTAMP:20260422T105059Z
DESCRIPTION: http://hollowhouse-entertainment.com/OS/index.php/event-calend
 ar/event/3239-private-party.html
DTSTART:20190520T200000Z
DTEND:20190521T000000Z
LOCATION:Hollow House Entertainment (10803 Claywood Drive\, Austin\, TX 787
 53)
SUMMARY:Private Party
URL:http://hollowhouse-entertainment.com/OS/index.php/event-calendar/event/
 3239-private-party.html
END:VEVENT
END:VCALENDAR
