BEGIN:VCALENDAR
VERSION:2.0
PRODID:-//http://hollowhouse-entertainment.com/OS///NONSGML kigkonsult.se iCalcreator 2.10.15//
METHOD:PUBLISH
BEGIN:VEVENT
UID:20260422T062005UTC-7599EsVnuv@http://hollowhouse-entertainment.com/OS/
DTSTAMP:20260422T062005Z
DESCRIPTION: http://hollowhouse-entertainment.com/OS/index.php/event-calend
 ar/event/3341-private-party.html
DTSTART:20190816T200000Z
DTEND:20190817T000000Z
LOCATION:Hollow House Entertainment (10803 Claywood Drive\, Austin\, TX 787
 53)
SUMMARY:Private Party
URL:http://hollowhouse-entertainment.com/OS/index.php/event-calendar/event/
 3341-private-party.html
END:VEVENT
END:VCALENDAR
