BEGIN:VCALENDAR
VERSION:2.0
PRODID:-//http://hollowhouse-entertainment.com/OS///NONSGML kigkonsult.se iCalcreator 2.10.15//
METHOD:PUBLISH
BEGIN:VEVENT
UID:20260422T033449UTC-8389IC6oSv@http://hollowhouse-entertainment.com/OS/
DTSTAMP:20260422T033449Z
DESCRIPTION: http://hollowhouse-entertainment.com/OS/index.php/event-calend
 ar/event/3399-private-party.html
DTSTART:20191020T000000Z
DTEND:20191020T030000Z
LOCATION:Berry Creek Country Club (30500 Berry Creek Dr\, Georgetown\, TX 7
 8628\, USA)
SUMMARY:Private Party
URL:http://hollowhouse-entertainment.com/OS/index.php/event-calendar/event/
 3399-private-party.html
END:VEVENT
END:VCALENDAR
