BEGIN:VCALENDAR
VERSION:2.0
PRODID:-//http://hollowhouse-entertainment.com/OS///NONSGML kigkonsult.se iCalcreator 2.10.15//
METHOD:PUBLISH
BEGIN:VEVENT
UID:20260422T033614UTC-2853kkA4mA@http://hollowhouse-entertainment.com/OS/
DTSTAMP:20260422T033614Z
DESCRIPTION: http://hollowhouse-entertainment.com/OS/index.php/event-calend
 ar/event/3410-private-party.html
DTSTART:20191023T200000Z
DTEND:20191024T000000Z
LOCATION:Hollow House Entertainment (10803 Claywood Drive\, Austin\, TX 787
 53)
SUMMARY:Private Party
URL:http://hollowhouse-entertainment.com/OS/index.php/event-calendar/event/
 3410-private-party.html
END:VEVENT
END:VCALENDAR
