BEGIN:VCALENDAR
VERSION:2.0
PRODID:-//http://hollowhouse-entertainment.com/OS///NONSGML kigkonsult.se iCalcreator 2.10.15//
METHOD:PUBLISH
BEGIN:VEVENT
UID:20260422T021607UTC-4246iuLP8K@http://hollowhouse-entertainment.com/OS/
DTSTAMP:20260422T021607Z
DESCRIPTION: http://hollowhouse-entertainment.com/OS/index.php/event-calend
 ar/event/3423-convention.html
DTSTART:20191122T140000Z
DTEND:20191124T180000Z
LOCATION:Power Play Paintball (4301 Meyers Ln\, Waco\, TX 76705)
SUMMARY:Convention
URL:http://hollowhouse-entertainment.com/OS/index.php/event-calendar/event/
 3423-convention.html
END:VEVENT
END:VCALENDAR
