BEGIN:VCALENDAR
VERSION:2.0
PRODID:-//http://hollowhouse-entertainment.com/OS///NONSGML kigkonsult.se iCalcreator 2.10.15//
METHOD:PUBLISH
BEGIN:VEVENT
UID:20260422T010901UTC-1486tHPElf@http://hollowhouse-entertainment.com/OS/
DTSTAMP:20260422T010901Z
DESCRIPTION: http://hollowhouse-entertainment.com/OS/index.php/event-calend
 ar/event/3459-corporate-party.html
DTSTART:20191222T000000Z
DTEND:20191222T050000Z
LOCATION:Hollow House Entertainment (10803 Claywood Drive\, Austin\, TX 787
 53)
SUMMARY:Corporate Party
URL:http://hollowhouse-entertainment.com/OS/index.php/event-calendar/event/
 3459-corporate-party.html
END:VEVENT
END:VCALENDAR
