BEGIN:VCALENDAR
VERSION:2.0
PRODID:-//http://hollowhouse-entertainment.com/OS///NONSGML kigkonsult.se iCalcreator 2.10.15//
METHOD:PUBLISH
BEGIN:VEVENT
UID:20260421T001758UTC-7894opu1aX@http://hollowhouse-entertainment.com/OS/
DTSTAMP:20260421T001758Z
DESCRIPTION: http://hollowhouse-entertainment.com/OS/index.php/event-calend
 ar/event/3510-wedding.html
DTSTART:20210529T180000Z
DTEND:20210530T000000Z
LOCATION:Milestone (5299 TX-29\, Georgetown\,TX 78628)
SUMMARY:Wedding
URL:http://hollowhouse-entertainment.com/OS/index.php/event-calendar/event/
 3510-wedding.html
END:VEVENT
END:VCALENDAR
