BEGIN:VCALENDAR
VERSION:2.0
PRODID:-//http://hollowhouse-entertainment.com/OS///NONSGML kigkonsult.se iCalcreator 2.10.15//
METHOD:PUBLISH
BEGIN:VEVENT
UID:20260421T222654UTC-6926KPkMXi@http://hollowhouse-entertainment.com/OS/
DTSTAMP:20260421T222654Z
DESCRIPTION: http://hollowhouse-entertainment.com/OS/index.php/event-calend
 ar/event/3531-private-party.html
DTSTART:20200205T010000Z
DTEND:20200205T050000Z
LOCATION:Hollow House Entertainment (10803 Claywood Drive\, Austin\, TX 787
 53)
SUMMARY:Private Party
URL:http://hollowhouse-entertainment.com/OS/index.php/event-calendar/event/
 3531-private-party.html
END:VEVENT
END:VCALENDAR
