BEGIN:VCALENDAR
VERSION:2.0
PRODID:-//http://hollowhouse-entertainment.com/OS///NONSGML kigkonsult.se iCalcreator 2.10.15//
METHOD:PUBLISH
BEGIN:VEVENT
UID:20260421T182156UTC-1410lvn4II@http://hollowhouse-entertainment.com/OS/
DTSTAMP:20260421T182156Z
DESCRIPTION: http://hollowhouse-entertainment.com/OS/index.php/event-calend
 ar/event/3603-studio-demo.html
DTSTART:20200504T020000Z
DTEND:20200504T043000Z
LOCATION:Hollow House Entertainment (10803 Claywood Drive\, Austin\, TX 787
 53)
SUMMARY:Studio Demo
URL:http://hollowhouse-entertainment.com/OS/index.php/event-calendar/event/
 3603-studio-demo.html
END:VEVENT
END:VCALENDAR
