BEGIN:VCALENDAR
VERSION:2.0
PRODID:-//http://hollowhouse-entertainment.com/OS///NONSGML kigkonsult.se iCalcreator 2.10.15//
METHOD:PUBLISH
BEGIN:VEVENT
UID:20260421T082358UTC-3044KsgHw9@http://hollowhouse-entertainment.com/OS/
DTSTAMP:20260421T082358Z
DESCRIPTION: http://hollowhouse-entertainment.com/OS/index.php/event-calend
 ar/event/3739-studio-demo.html
DTSTART:20201206T030000Z
DTEND:20201206T053000Z
LOCATION:Hollow House Entertainment (10803 Claywood Drive\, Austin\, TX 787
 53)
SUMMARY:Studio Demo
URL:http://hollowhouse-entertainment.com/OS/index.php/event-calendar/event/
 3739-studio-demo.html
END:VEVENT
END:VCALENDAR
