BEGIN:VCALENDAR
VERSION:2.0
PRODID:-//http://hollowhouse-entertainment.com/OS///NONSGML kigkonsult.se iCalcreator 2.10.15//
METHOD:PUBLISH
BEGIN:VEVENT
UID:20260421T064050UTC-7560PVE3VF@http://hollowhouse-entertainment.com/OS/
DTSTAMP:20260421T064050Z
DESCRIPTION: http://hollowhouse-entertainment.com/OS/index.php/event-calend
 ar/event/3759-convention.html
DTSTART:20210117T140000Z
DTEND:20210118T030000Z
LOCATION:Power Play Paintball (4301 Meyers Ln\, Waco\, TX 76705)
SUMMARY:Convention
URL:http://hollowhouse-entertainment.com/OS/index.php/event-calendar/event/
 3759-convention.html
END:VEVENT
END:VCALENDAR
