BEGIN:VCALENDAR
VERSION:2.0
PRODID:-//http://hollowhouse-entertainment.com/OS///NONSGML kigkonsult.se iCalcreator 2.10.15//
METHOD:PUBLISH
BEGIN:VEVENT
UID:20260421T064123UTC-6077Jva9eJ@http://hollowhouse-entertainment.com/OS/
DTSTAMP:20260421T064123Z
DESCRIPTION: http://hollowhouse-entertainment.com/OS/index.php/event-calend
 ar/event/3762-studio-demo.html
DTSTART:20210110T030000Z
DTEND:20210110T053000Z
LOCATION:Hollow House Entertainment (10803 Claywood Drive\, Austin\, TX 787
 53)
SUMMARY:Studio Demo
URL:http://hollowhouse-entertainment.com/OS/index.php/event-calendar/event/
 3762-studio-demo.html
END:VEVENT
END:VCALENDAR
