BEGIN:VCALENDAR
VERSION:2.0
PRODID:-//http://hollowhouse-entertainment.com/OS///NONSGML kigkonsult.se iCalcreator 2.10.15//
METHOD:PUBLISH
BEGIN:VEVENT
UID:20260421T020523UTC-8019mxCzVd@http://hollowhouse-entertainment.com/OS/
DTSTAMP:20260421T020523Z
DESCRIPTION: http://hollowhouse-entertainment.com/OS/index.php/event-calend
 ar/event/3770-charity-event.html
DTSTART:20210403T130000Z
DTEND:20210403T170000Z
LOCATION:Fiesta Winery (18727 Farm to Market Rd 580 Lometa\, TX 76853)
SUMMARY:Charity Event
URL:http://hollowhouse-entertainment.com/OS/index.php/event-calendar/event/
 3770-charity-event.html
END:VEVENT
END:VCALENDAR
