BEGIN:VCALENDAR
VERSION:2.0
PRODID:-//http://hollowhouse-entertainment.com/OS///NONSGML kigkonsult.se iCalcreator 2.10.15//
METHOD:PUBLISH
BEGIN:VEVENT
UID:20260420T225929UTC-2483zjvN1v@http://hollowhouse-entertainment.com/OS/
DTSTAMP:20260420T225929Z
DESCRIPTION: http://hollowhouse-entertainment.com/OS/index.php/event-calend
 ar/event/3817-private-party.html
DTSTART:20210612T220000Z
DTEND:20210613T045900Z
LOCATION:SPJST Lodge Hall (Buckholts\, TX)
SUMMARY:Private Party
URL:http://hollowhouse-entertainment.com/OS/index.php/event-calendar/event/
 3817-private-party.html
END:VEVENT
END:VCALENDAR
