BEGIN:VCALENDAR
VERSION:2.0
PRODID:-//http://hollowhouse-entertainment.com/OS///NONSGML kigkonsult.se iCalcreator 2.10.15//
METHOD:PUBLISH
BEGIN:VEVENT
UID:20260420T195814UTC-1342RjDmbl@http://hollowhouse-entertainment.com/OS/
DTSTAMP:20260420T195814Z
DESCRIPTION: http://hollowhouse-entertainment.com/OS/index.php/event-calend
 ar/event/3859-adult-game-night.html
DTSTART:20210822T010000Z
DTEND:20210822T050000Z
LOCATION:Dart'em Up (13776 US Highway 183\, suite #104\, Austin\, TX 78750)
SUMMARY:Adult Game Night
URL:http://hollowhouse-entertainment.com/OS/index.php/event-calendar/event/
 3859-adult-game-night.html
END:VEVENT
END:VCALENDAR
