BEGIN:VCALENDAR
VERSION:2.0
PRODID:-//http://hollowhouse-entertainment.com/OS///NONSGML kigkonsult.se iCalcreator 2.10.15//
METHOD:PUBLISH
BEGIN:VEVENT
UID:20260420T163202UTC-7169KWpnrE@http://hollowhouse-entertainment.com/OS/
DTSTAMP:20260420T163202Z
DESCRIPTION: http://hollowhouse-entertainment.com/OS/index.php/event-calend
 ar/event/3901-convention.html
DTSTART:20211030T130000Z
DTEND:20211031T020000Z
LOCATION:Power Play Paintball (4301 Meyers Ln\, Waco\, TX 76705)
SUMMARY:Convention
URL:http://hollowhouse-entertainment.com/OS/index.php/event-calendar/event/
 3901-convention.html
END:VEVENT
END:VCALENDAR
