BEGIN:VCALENDAR
VERSION:2.0
PRODID:-//http://hollowhouse-entertainment.com/OS///NONSGML kigkonsult.se iCalcreator 2.10.15//
METHOD:PUBLISH
BEGIN:VEVENT
UID:20260420T033100UTC-0982poOuvI@http://hollowhouse-entertainment.com/OS/
DTSTAMP:20260420T033100Z
DESCRIPTION: http://hollowhouse-entertainment.com/OS/index.php/event-calend
 ar/event/3990-studio-demo.html
DTSTART:20220717T020000Z
DTEND:20220717T043000Z
LOCATION:Hollow House Entertainment (10803 Claywood Drive\, Austin\, TX 787
 53)
SUMMARY:Studio Demo
URL:http://hollowhouse-entertainment.com/OS/index.php/event-calendar/event/
 3990-studio-demo.html
END:VEVENT
END:VCALENDAR
