BEGIN:VCALENDAR
VERSION:2.0
PRODID:-//http://hollowhouse-entertainment.com/OS///NONSGML kigkonsult.se iCalcreator 2.10.15//
METHOD:PUBLISH
BEGIN:VEVENT
UID:20260420T014500UTC-9304DvkhwK@http://hollowhouse-entertainment.com/OS/
DTSTAMP:20260420T014500Z
DESCRIPTION: http://hollowhouse-entertainment.com/OS/index.php/event-calend
 ar/event/3997-wedding.html
DTSTART:20220822T230000Z
DTEND:20220823T020000Z
LOCATION:Hollow House Entertainment (10803 Claywood Drive\, Austin\, TX 787
 53)
SUMMARY:Wedding
URL:http://hollowhouse-entertainment.com/OS/index.php/event-calendar/event/
 3997-wedding.html
END:VEVENT
END:VCALENDAR
