BEGIN:VCALENDAR
VERSION:2.0
PRODID:-//http://hollowhouse-entertainment.com/OS///NONSGML kigkonsult.se iCalcreator 2.10.15//
METHOD:PUBLISH
BEGIN:VEVENT
UID:20260419T211848UTC-0392AhBH1T@http://hollowhouse-entertainment.com/OS/
DTSTAMP:20260419T211848Z
DESCRIPTION: http://hollowhouse-entertainment.com/OS/index.php/event-calend
 ar/event/4024-studio-demo.html
DTSTART:20221102T020000Z
DTEND:20221102T043000Z
LOCATION:Hollow House Entertainment (10803 Claywood Drive\, Austin\, TX 787
 53)
SUMMARY:Studio Demo
URL:http://hollowhouse-entertainment.com/OS/index.php/event-calendar/event/
 4024-studio-demo.html
END:VEVENT
END:VCALENDAR
