BEGIN:VCALENDAR
VERSION:2.0
PRODID:-//http://hollowhouse-entertainment.com/OS///NONSGML kigkonsult.se iCalcreator 2.10.15//
METHOD:PUBLISH
BEGIN:VEVENT
UID:20260420T001320UTC-6398x2b2rX@http://hollowhouse-entertainment.com/OS/
DTSTAMP:20260420T001320Z
DESCRIPTION: http://hollowhouse-entertainment.com/OS/index.php/event-calend
 ar/event/4048-wedding.html
DTSTART:20220829T000000Z
DTEND:20220829T043000Z
LOCATION:Hollow House Entertainment (10803 Claywood Drive\, Austin\, TX 787
 53)
SUMMARY:Wedding
URL:http://hollowhouse-entertainment.com/OS/index.php/event-calendar/event/
 4048-wedding.html
END:VEVENT
END:VCALENDAR
